BEGIN:VCALENDAR
VERSION:2.0
PRODID:-// - ECPv6.15.20//NONSGML v1.0//EN
CALSCALE:GREGORIAN
METHOD:PUBLISH
X-ORIGINAL-URL:https://www.judoschwaben.de
X-WR-CALDESC:Veranstaltungen für 
REFRESH-INTERVAL;VALUE=DURATION:PT1H
X-Robots-Tag:noindex
X-PUBLISHED-TTL:PT1H
BEGIN:VTIMEZONE
TZID:Europe/Berlin
BEGIN:DAYLIGHT
TZOFFSETFROM:+0100
TZOFFSETTO:+0200
TZNAME:CEST
DTSTART:20250330T010000
END:DAYLIGHT
BEGIN:STANDARD
TZOFFSETFROM:+0200
TZOFFSETTO:+0100
TZNAME:CET
DTSTART:20251026T010000
END:STANDARD
BEGIN:DAYLIGHT
TZOFFSETFROM:+0100
TZOFFSETTO:+0200
TZNAME:CEST
DTSTART:20260329T010000
END:DAYLIGHT
BEGIN:STANDARD
TZOFFSETFROM:+0200
TZOFFSETTO:+0100
TZNAME:CET
DTSTART:20261025T010000
END:STANDARD
BEGIN:DAYLIGHT
TZOFFSETFROM:+0100
TZOFFSETTO:+0200
TZNAME:CEST
DTSTART:20270328T010000
END:DAYLIGHT
BEGIN:STANDARD
TZOFFSETFROM:+0200
TZOFFSETTO:+0100
TZNAME:CET
DTSTART:20271031T010000
END:STANDARD
END:VTIMEZONE
BEGIN:VEVENT
DTSTART;TZID=Europe/Berlin:20260425T093000
DTEND;TZID=Europe/Berlin:20260425T170000
DTSTAMP:20260425T024707
CREATED:20251206T120853Z
LAST-MODIFIED:20260423T171819Z
UID:2875-1777109400-1777136400@www.judoschwaben.de
SUMMARY:BezirksVMM U13\, Mixed MT U13\, offenes RLT U15
DESCRIPTION:26-04-25_VMM_FDB_U13 \n26-04-25_Mix_Mannschaft_U13 \n  \nLiebe Sportfreunde\, \n\nleider müssen wir das Ranglistenturnier in Friedberg aufgrund der geringen Teilnehmerzahlen absagen. \nMit 24 Teilnehmern ist es nicht möglich\, ein ordentliches Turnier auszurichten. \n\nEs tut uns sehr leid für die Judokas\, die Lust hatten\, am Wochenende Ihren Trainingsfleiß unter Beweis zu stellen. \n\nDie Vereinsmannschaftsmeisterschaft und das Mixed-U13 Turnier können jedoch auf einer Matte ausgetragen werden. \n\nGebt das bitte an eure Athleten weiter. \n\nBeste Grüße\, \nAlexander Timakow \nJugendleitung Schwaben
URL:https://www.judoschwaben.de/termine/bezirksvmm-u13-mixed-mt-u13-offenes-rlt-u15/
LOCATION:Sporthalle der Vinzenz-Pallotti-Schule\, Aichacher Str. 16b\, Friedberg\, Bayern\, 86316
CATEGORIES:Jugend,Wettkampf
END:VEVENT
END:VCALENDAR