BEGIN:VCALENDAR
VERSION:2.0
PRODID:-// - ECPv6.15.20//NONSGML v1.0//EN
CALSCALE:GREGORIAN
METHOD:PUBLISH
X-ORIGINAL-URL:https://www.judoschwaben.de
X-WR-CALDESC:Veranstaltungen für 
REFRESH-INTERVAL;VALUE=DURATION:PT1H
X-Robots-Tag:noindex
X-PUBLISHED-TTL:PT1H
BEGIN:VTIMEZONE
TZID:Europe/Berlin
BEGIN:DAYLIGHT
TZOFFSETFROM:+0100
TZOFFSETTO:+0200
TZNAME:CEST
DTSTART:20230326T010000
END:DAYLIGHT
BEGIN:STANDARD
TZOFFSETFROM:+0200
TZOFFSETTO:+0100
TZNAME:CET
DTSTART:20231029T010000
END:STANDARD
BEGIN:DAYLIGHT
TZOFFSETFROM:+0100
TZOFFSETTO:+0200
TZNAME:CEST
DTSTART:20240331T010000
END:DAYLIGHT
BEGIN:STANDARD
TZOFFSETFROM:+0200
TZOFFSETTO:+0100
TZNAME:CET
DTSTART:20241027T010000
END:STANDARD
BEGIN:DAYLIGHT
TZOFFSETFROM:+0100
TZOFFSETTO:+0200
TZNAME:CEST
DTSTART:20250330T010000
END:DAYLIGHT
BEGIN:STANDARD
TZOFFSETFROM:+0200
TZOFFSETTO:+0100
TZNAME:CET
DTSTART:20251026T010000
END:STANDARD
END:VTIMEZONE
BEGIN:VEVENT
DTSTART;TZID=Europe/Berlin:20240303T100000
DTEND;TZID=Europe/Berlin:20240303T170000
DTSTAMP:20260426T051532
CREATED:20230917T102516Z
LAST-MODIFIED:20240208T180848Z
UID:1685-1709460000-1709485200@www.judoschwaben.de
SUMMARY:Bez EM U13 RLT U15
DESCRIPTION:Wir dürfen euch herzlich zur Bezirkseinzelmeisterschaft der Altersklasse U13 und zum offenen Ranglistenturnier der Altersklasse U15 nach Memmingen einladen! \nIn den Ausschreibungen findet ihr sämtliche Informationen zu den Wettkämpfen. \n  \n24-03-03_Bezirks_RLT_U15_MM \n24-03-03_BezirksEM_U13_MM
URL:https://www.judoschwaben.de/termine/bez-em-u13-rlt-u15-vorlaeufig/
LOCATION:TV Memmingen\, Schlachthofstraße 34\, Memmingen\, Bayern\, 87700\, Deutschland
CATEGORIES:Wettkampf
END:VEVENT
END:VCALENDAR